BEGIN:VCALENDAR
PRODID:-//eluceo/ical//2.0/EN
VERSION:2.0
CALSCALE:GREGORIAN
BEGIN:VEVENT
UID:eb5b641e237767735dafcf0a7783f6f0
DTSTAMP:20260422T012815Z
SUMMARY:CSI - Judaica Shouk with Judith Rose
DESCRIPTION:Jewish Federation & Foundation of Rockland County\nCommunity Ca
 lendar\nhttps://jewishrockland.org/calendar/csi---judaica-shouk-with-judit
 h-rose-1673467924\n\nRSVP to office@csinyack.org to attend new class begin
 ning on Wednesday 3/1 with Judith Rose - Judaica Shouk
DTSTART;TZID=America/New_York:20230301T133000
DTEND;TZID=America/New_York:20230322T024500
END:VEVENT
END:VCALENDAR
