BEGIN:VCALENDAR
PRODID:-//eluceo/ical//2.0/EN
VERSION:2.0
CALSCALE:GREGORIAN
BEGIN:VEVENT
UID:9a1ae95eb3b4ea24bde0df3c37deb14c
DTSTAMP:20260426T012521Z
SUMMARY:CSI Celebrates Pride Weekend
DESCRIPTION:Jewish Federation & Foundation of Rockland County\nCommunity Ca
 lendar\nhttps://jewishrockland.org/calendar/csi-celebrates-pride-weekend-1
 685314360\n\nCSI celebrates Pride Weekend with Friday Kabbalat Shabbat Ser
 vice 6:00 PM\nSaturday 9:30-11:30 Shabbat Service and lunch\nSunday all da
 y at the Pride Street Fair
DTSTART;TZID=America/New_York:20230609T180000
DTEND;TZID=America/New_York:20230611T160000
END:VEVENT
END:VCALENDAR
