BEGIN:VCALENDAR
PRODID:-//eluceo/ical//2.0/EN
VERSION:2.0
CALSCALE:GREGORIAN
BEGIN:VEVENT
UID:e5daf17b152280421c6e3c9aa1163a4a
DTSTAMP:20260423T061215Z
SUMMARY:CSI Cocktail Party and Cantor Concert
DESCRIPTION:Jewish Federation & Foundation of Rockland County\nCommunity Ca
 lendar\nhttps://jewishrockland.org/calendar/csi-cocktail-party-and-cantor-
 concert-7406\n\nCSI Cocktail Party and Cantor Concert
DTSTART;TZID=America/New_York:20130720T210000
DTEND;TZID=America/New_York:20130720T230000
END:VEVENT
END:VCALENDAR
