BEGIN:VCALENDAR
PRODID:-//eluceo/ical//2.0/EN
VERSION:2.0
CALSCALE:GREGORIAN
BEGIN:VEVENT
UID:2c10f20fffafefe82d494ee32cad4cc6
DTSTAMP:20260424T122352Z
SUMMARY:CSI Dinner Dance honoring Joe Zweig
DESCRIPTION:Jewish Federation & Foundation of Rockland County\nCommunity Ca
 lendar\nhttps://jewishrockland.org/calendar/csi-dinner-dance-honoring-joe-
 zweig-1674837710\n\nJournal Dance on behalf of out going president of CSI.
  Honoring Joe Zweig and Randi Shebitz for all their hard work on behalf of
  Congregation Sons of Israel.\nSunday\, June 4th\nRSVP a must!\nJournal Ad
 s : journalevent@CSI.org
DTSTART;TZID=America/New_York:20230604T160000
DTEND;TZID=America/New_York:20230604T200000
END:VEVENT
END:VCALENDAR
