BEGIN:VCALENDAR
PRODID:-//eluceo/ical//2.0/EN
VERSION:2.0
CALSCALE:GREGORIAN
BEGIN:VEVENT
UID:8bd967e6d58b181864614e81eb2a2b8e
DTSTAMP:20260421T051110Z
SUMMARY:CSI Mah Jongg  Tournament
DESCRIPTION:Jewish Federation & Foundation of Rockland County\nCommunity Ca
 lendar\nhttps://jewishrockland.org/calendar/csi-mah-jongg--tournament-1756
 781050\n\nNovember 9th\, 2025 CSI Mah Jongg Tournament \n9-9:45 registrati
 on \, set-up and continental breakfast\n10 AM Sharp - The Games Begin\nKos
 her lunch included -4-4:30 winners announced \nCash prizes and more plus 5
 0/50 raffle.\nMust register by 11/4\nContact CSI at office@csinyack.org Co
 st: $65
DTSTART;TZID=America/New_York:20251109T090000
DTEND;TZID=America/New_York:20251109T160000
END:VEVENT
END:VCALENDAR
