BEGIN:VCALENDAR
PRODID:-//eluceo/ical//2.0/EN
VERSION:2.0
CALSCALE:GREGORIAN
BEGIN:VEVENT
UID:61aa262dd8feef4091aa55d485932d73
DTSTAMP:20260424T082325Z
SUMMARY:CSI-Mah Jongg Tournament
DESCRIPTION:Jewish Federation & Foundation of Rockland County\nCommunity Ca
 lendar\nhttps://jewishrockland.org/calendar/csi-mah-jongg-tournament\n\nEn
 joy a fun day of Mah Jongg at CSI.  Includes /Continental Breakfast\, Gam
 es\, Kosher Dairy Lunch and Prize Winners.  Bring your Friends!! \n\nFir
 st prize- $150\, 2nd Prize $75 and more.  Unique Boutique with “MAHJ”
  items.\n\nCost- $45.00  Must reserve by May 30.  Congregation Sons of I
 srael\, 300 N. Broadway\, Upper Nyack\, NY 10960. For more information cal
 l Helaine at 845-358-3767 or csioffice@optonline.net
DTSTART;TZID=America/New_York:20140608T090000
DTEND;TZID=America/New_York:20140608T163000
END:VEVENT
END:VCALENDAR
