BEGIN:VCALENDAR
PRODID:-//eluceo/ical//2.0/EN
VERSION:2.0
CALSCALE:GREGORIAN
BEGIN:VEVENT
UID:27c6f71167a044fc4ab45d91610d8cd8
DTSTAMP:20260424T232800Z
SUMMARY:CSI Neil Berg Concert
DESCRIPTION:Jewish Federation & Foundation of Rockland County\nCommunity Ca
 lendar\nhttps://jewishrockland.org/calendar/csi-neil-berg-concert-17557044
 81\n\nCSI presents Neil Berg: 100 years of Broadway and More! Neil and som
 e friends will take you on a musical journey through time in one of the to
 p Broadway concerts in the USA.\nDate: November 2\, 2025\, 3:00 p.m.\nTick
 ets: $60\nEventBright  or email office@csinyack.org
DTSTART;TZID=America/New_York:20251102T150000
DTEND;TZID=America/New_York:20251102T170000
END:VEVENT
END:VCALENDAR
