BEGIN:VCALENDAR
PRODID:-//eluceo/ical//2.0/EN
VERSION:2.0
CALSCALE:GREGORIAN
BEGIN:VEVENT
UID:852d0f9a0f89a8529fc70ce428b2c90d
DTSTAMP:20260419T131759Z
SUMMARY:CSI Nyack Kabblat  Shabbat with Laura Wolfe
DESCRIPTION:Jewish Federation & Foundation of Rockland County\nCommunity Ca
 lendar\nhttps://jewishrockland.org/calendar/csi-nyack-kabblat--shabbat-wit
 h-laura-wolfe-1677774667\n\nCome to Cong. Sons of of Israel on March 17 fo
 r Kabblat  Shabbat with Laura Wolfe\,  multi-instrumentalist\, vocalist\, 
 songwriter\, and recording artist.\nRSVP office@csinyack.org indicate alle
 rgies.\n$40 family $18 individual \nService at 5:30 Dinner at 6:30
DTSTART;TZID=America/New_York:20230317T173000
DTEND;TZID=America/New_York:20230317T200000
END:VEVENT
END:VCALENDAR
