BEGIN:VCALENDAR
PRODID:-//eluceo/ical//2.0/EN
VERSION:2.0
CALSCALE:GREGORIAN
BEGIN:VEVENT
UID:37a1e20674b2d760c719468255138a5e
DTSTAMP:20260422T151232Z
SUMMARY:CSI Pre-Rosh Hashanah Baking Demo
DESCRIPTION:Jewish Federation & Foundation of Rockland County\nCommunity Ca
 lendar\nhttps://jewishrockland.org/calendar/csi-pre-rosh-hashanah-baking-d
 emo-7410\n\nCSI Pre-Rosh Hashanah Baking Demo
DTSTART;TZID=America/New_York:20130829T170000
DTEND;TZID=America/New_York:20130829T200000
END:VEVENT
END:VCALENDAR
