BEGIN:VCALENDAR
PRODID:-//eluceo/ical//2.0/EN
VERSION:2.0
CALSCALE:GREGORIAN
BEGIN:VEVENT
UID:87c545e7c219f7663e050d989df808c4
DTSTAMP:20260425T004904Z
SUMMARY:CSI Presents From Yemen to Zion in Story & Song
DESCRIPTION:Jewish Federation & Foundation of Rockland County\nCommunity Ca
 lendar\nhttps://jewishrockland.org/calendar/csi-presents-from-yemen-to-zio
 n-in-story--song-1772038285\n\nOn Sunday\, March 8th please join CSI for a
 n unforgettable event with author Naomi Kehati Bronner and CSI soloist \nI
 lana Davidson that honors the journey from Yemen to Zion through spoken wo
 rd and song.\nIn celebration of the publication of Kahati's dazzling new m
 emoir On the Wings of Eagles: From Yemen to Zion-A Family Memoir.\nProgram
  includes a reading\, musical offerings of Yemenite melodies and Q& A\nNon
  Members $25 includes copy of book and breakfast reception\nRSVP a MUST:..
 .
DTSTART;TZID=America/New_York:20260308T103000
DTEND;TZID=America/New_York:20260308T123000
END:VEVENT
END:VCALENDAR
