BEGIN:VCALENDAR
PRODID:-//eluceo/ical//2.0/EN
VERSION:2.0
CALSCALE:GREGORIAN
BEGIN:VEVENT
UID:7c75a3479bea5a07224b702430eb158b
DTSTAMP:20260423T133216Z
SUMMARY:CSI Presents the Torah Case for Reparations with Rabbi Aryeh Bernst
 ein
DESCRIPTION:Jewish Federation & Foundation of Rockland County\nCommunity Ca
 lendar\nhttps://jewishrockland.org/calendar/csi-presents-the-torah-case-fo
 r-reparations-with-rabbi-aryeh-bernstein-1653833416\n\nJoin Cong. Sons of 
 Israel for the Zoom event commemorating the emancipation of enslaved Afric
 an Americans.  \n
DTSTART;TZID=America/New_York:20220616T190000
DTEND;TZID=America/New_York:20220616T203000
END:VEVENT
END:VCALENDAR
