BEGIN:VCALENDAR
PRODID:-//eluceo/ical//2.0/EN
VERSION:2.0
CALSCALE:GREGORIAN
BEGIN:VEVENT
UID:43078d1d9a8576b9bdac84ba91b7c30b
DTSTAMP:20260421T205912Z
SUMMARY:CSI Purim Ball Honoring Rabbi Ariel Russo & Stephanie Hausner
DESCRIPTION:Jewish Federation & Foundation of Rockland County\nCommunity Ca
 lendar\nhttps://jewishrockland.org/calendar/csi-purim-ball-honoring-rabbi-
 ariel-russo--stephanie-hausner-1699491585\n\nCongregation Sons of Israel P
 urim Ball honoring Rabbi Ariel Russo & Stephanie Hausner \nPlace: Town & C
 ountry\,  Congers\, NY\nDate: March 17\, 2024\nTime 5:00 p.m.\nRSVP & Cost
 :  office@csinyack.org\n845 358-3767
DTSTART;TZID=America/New_York:20240317T170000
DTEND;TZID=America/New_York:20240317T220000
END:VEVENT
END:VCALENDAR
