BEGIN:VCALENDAR
PRODID:-//eluceo/ical//2.0/EN
VERSION:2.0
CALSCALE:GREGORIAN
BEGIN:VEVENT
UID:d266f8ee42f255bfc77fa9aeeb62d5a1
DTSTAMP:20260425T220511Z
SUMMARY:CSI Sisterhood Pool Party
DESCRIPTION:Jewish Federation & Foundation of Rockland County\nCommunity Ca
 lendar\nhttps://jewishrockland.org/calendar/csi-sisterhood-pool-party-1467
 382433\n\nWednesday\, July 20\, 5:30 p.m. CSI Sisterhood Pool Party\nJoin 
 us for a swim and potluck dinner. Swim 5:30 – 7 p.m.\, followed by dinne
 r. Appetizers and salmon will be provided. Everyone brings a dish.\nCongre
 gation Sons of Israel\, 300 N. Broadway\, Upper Nyack\, NY 10960. For more
  information or to RSVP by July 15 contact us at 845-358-3767 or csioffice
 @optonline.net
DTSTART;TZID=America/New_York:20160720T173000
DTEND;TZID=America/New_York:20160720T210000
END:VEVENT
END:VCALENDAR
