BEGIN:VCALENDAR
PRODID:-//eluceo/ical//2.0/EN
VERSION:2.0
CALSCALE:GREGORIAN
BEGIN:VEVENT
UID:e4145ecec615c3c2e0a7770be569c069
DTSTAMP:20260419T231744Z
SUMMARY:CSI Summer Class with Esther Cember
DESCRIPTION:Jewish Federation & Foundation of Rockland County\nCommunity Ca
 lendar\nhttps://jewishrockland.org/calendar/csi-summer-class-with-esther-c
 ember\n\nStudy A Multicultural Approach to the Archaeology and History of 
 the Bible.
DTSTART;TZID=America/New_York:20240802T110000
DTEND;TZID=America/New_York:20240802T123000
END:VEVENT
END:VCALENDAR
