BEGIN:VCALENDAR
PRODID:-//eluceo/ical//2.0/EN
VERSION:2.0
CALSCALE:GREGORIAN
BEGIN:VEVENT
UID:1395a613bbb42fd8a4a84db0eedf90f7
DTSTAMP:20260422T204402Z
SUMMARY:CSI Tuesdays In July
DESCRIPTION:Jewish Federation & Foundation of Rockland County\nCommunity Ca
 lendar\nhttps://jewishrockland.org/calendar/csi-tuesdays-in-july-171966107
 5\n\nLearn to Sew a pillow with your Hebrew name \nTuesdays July 9\, 16\, 
 23 with Orli at   4-6 p.m. \nFree for CSI School kids\n$20 for friends \nA
 ges 10 and up can be dropped off- younger with adult present\nRSVP csinyac
 khs.pto@gmail.com
DTSTART;TZID=America/New_York:20240709T160000
DTEND;TZID=America/New_York:20240709T180000
END:VEVENT
END:VCALENDAR
