BEGIN:VCALENDAR
PRODID:-//eluceo/ical//2.0/EN
VERSION:2.0
CALSCALE:GREGORIAN
BEGIN:VEVENT
UID:b1c391d59cb1889736d926261d31e2d8
DTSTAMP:20260419T155548Z
SUMMARY:CSI Welcome Back & New Member Shabbat
DESCRIPTION:Jewish Federation & Foundation of Rockland County\nCommunity Ca
 lendar\nhttps://jewishrockland.org/calendar/csi-welcome-back--new-member-s
 habbat-1691757732\n\nJoin CSI for our Welcome Back & New Member Shabbat on
  Friday\, September 8 at 7:00 p.m.\nCost for family $40\nAdult $18\nKids $
 7 \nRSVP office@csinyack.org
DTSTART;TZID=America/New_York:20230908T190000
DTEND;TZID=America/New_York:20230908T210000
END:VEVENT
END:VCALENDAR
