BEGIN:VCALENDAR
PRODID:-//eluceo/ical//2.0/EN
VERSION:2.0
CALSCALE:GREGORIAN
BEGIN:VEVENT
UID:f1b5bf86b619f706cbd70aad88299a98
DTSTAMP:20260424T054752Z
SUMMARY:CSI's 6th Annual Refugee Shabbat
DESCRIPTION:Jewish Federation & Foundation of Rockland County\nCommunity Ca
 lendar\nhttps://jewishrockland.org/calendar/csis-6th-annual-refugee-shabba
 t-1708629590\n\nCong. Sons of Israel Refugee Shabbat on Saturday\, March 1
 6th.\nWe have a few of our Hebrew School parents\, who were refugees from 
 the former Soviet Union who will speak about their experiences when they a
 rrived in this country.\nThey will speak to our Hebrew School students in 
 the morning \, after services they will share their experiences with our c
 ongregation.\nWe expect to feature some dishes from our speakers&#039\; co
 untry at our kiddush.\nRSVP office@csinyack.org
DTSTART;TZID=America/New_York:20240316T093000
DTEND;TZID=America/New_York:20240316T133000
END:VEVENT
END:VCALENDAR
