BEGIN:VCALENDAR
PRODID:-//eluceo/ical//2.0/EN
VERSION:2.0
CALSCALE:GREGORIAN
BEGIN:VEVENT
UID:61494c0497d0e34716833342bf2b01bf
DTSTAMP:20260425T013009Z
SUMMARY:CSI's Jewish Heritage Walking Tour
DESCRIPTION:Jewish Federation & Foundation of Rockland County\nCommunity Ca
 lendar\nhttps://jewishrockland.org/calendar/csis-jewish-heritage-walking-t
 our-1708017182\n\nJewish Harlem Walking Tour\nJoin CSI for a 2.5 hour guid
 ed walking tour led by the Lower East Side Conservancy. We will visit the 
 sites of Jewish religious life in Harlem\, which was the third largest Jew
 ish community in the world from -1870-1930.\nMeet in front of the Apollo T
 heater ( 253 W 125 street) at 2:00 p.m.\nDinner experience at the acclaime
 d Ethiopian Israeli fusion cuisine at Tsion Cafe\, a vegetarian restaurant
 . 763 St Nicholas Avenue (147th St) \nReservations and pre-payment...
DTSTART;TZID=America/New_York:20240414T140000
DTEND;TZID=America/New_York:20240414T183000
END:VEVENT
END:VCALENDAR
