BEGIN:VCALENDAR
PRODID:-//eluceo/ical//2.0/EN
VERSION:2.0
CALSCALE:GREGORIAN
BEGIN:VEVENT
UID:a98f5068335ed0c487dbe5fa3533b17b
DTSTAMP:20260421T144349Z
SUMMARY:CSI's Sisterhood Brunch and Learn about Stained Glass Windows
DESCRIPTION:Jewish Federation & Foundation of Rockland County\nCommunity Ca
 lendar\nhttps://jewishrockland.org/calendar/csis-sisterhood-brunch-and-lea
 rn-about-stained-glass-windows-1710254769\n\nSee the beautiful Stained Gla
 ss Windows at CSI while learning with David Samick\, former owner of J&R L
 amb Studios\, America's oldest continuously run decorative arts firm\, tha
 t proceeded and influenced the studios of John LeFarge and Louis Tiffany. 
 \nApril 7th at 10:00 a.m.\nRSVP office@csinyack.org \nCost: $10.00
DTSTART;TZID=America/New_York:20240407T100000
DTEND;TZID=America/New_York:20240407T120000
END:VEVENT
END:VCALENDAR
