BEGIN:VCALENDAR
PRODID:-//eluceo/ical//2.0/EN
VERSION:2.0
CALSCALE:GREGORIAN
BEGIN:VEVENT
UID:197e483737f93671c403d8a38f033b9e
DTSTAMP:20260420T053658Z
SUMMARY:CSI’s Stained Glass Windows & Beyond
DESCRIPTION:Jewish Federation & Foundation of Rockland County\nCommunity Ca
 lendar\nhttps://jewishrockland.org/calendar/csis-stained-glass-windows--be
 yond-1702845388\n\nJoin CSI’s Sisterhood to learn about the artistry of 
 stained glass. \nDonald Samick artist and former owner of J&amp\;R Lamb st
 udios will present.\nBagel Brunch\n$10 \nRSVP office@csinyack.org
DTSTART;TZID=America/New_York:20240107T103000
DTEND;TZID=America/New_York:20240107T123000
END:VEVENT
END:VCALENDAR
