BEGIN:VCALENDAR
PRODID:-//eluceo/ical//2.0/EN
VERSION:2.0
CALSCALE:GREGORIAN
BEGIN:VEVENT
UID:2764c6e7cf22fa8477f12bcb527f5271
DTSTAMP:20260420T141941Z
SUMMARY:December 24th Community-Wide Winter Vacation Party @  Nanuet Hebrew
  Center
DESCRIPTION:Jewish Federation & Foundation of Rockland County\nCommunity Ca
 lendar\nhttps://jewishrockland.org/calendar/december-24th-community-wide-w
 inter-vacation-party-nanuet-hebrew-center\n\nWe welcome you to join us at 
 Nanuet Hebrew Center's annual Community-Wide December 24th Winter Vacation
  Party.  6pm - 9:30pm.\n\nIncludes Kosher Chinese Food\, Lots of Fun\, and
  Great Company.  Also features live music by The Temple Dudes\, along with
  "Open Mic" Audience Participation.\n\nAdults (13 and up):  $18\nAges 5-12
 : $12\nUnder 5: Free\nFamily Maximum (for immediate family): $60\nFor an a
 dditional $50 minimum\, your family will be listed as an event sponsor.\n\
 nOpen to the Entire...
DTSTART;TZID=America/New_York:20171224T180000
DTEND;TZID=America/New_York:20171224T213000
END:VEVENT
END:VCALENDAR
