BEGIN:VCALENDAR
PRODID:-//eluceo/ical//2.0/EN
VERSION:2.0
CALSCALE:GREGORIAN
BEGIN:VEVENT
UID:e3e2ccc5bf3198d519d99f4765b1b93f
DTSTAMP:20260422T063621Z
SUMMARY:Designer Handbag Bingo at MJC
DESCRIPTION:Jewish Federation & Foundation of Rockland County\nCommunity Ca
 lendar\nhttps://jewishrockland.org/calendar/designer-handbag-bingo-MJC-182
 605\n\nOPEN TO THE PUBLIC\n\nDoors Open at 6:30 PM - Bingo Starts Promptly
  at 7:00 PM\n\nJoin us for a fun ladies' night out of Pocketbook Bingo - a
 lso known as Handbag or Designer Bag Bingo. It's like playing regular bing
 o - only the prizes are designer handbags! This event is open to the publi
 c\, so please invite your friends.\n\nCost: $50.00 per person - cost inclu
 des:\nOne bingo card set (10 games/3 chances per game = 30 chances to win)
  and a door prize raffle ticket. Additional cards will be ava...
DTSTART;TZID=America/New_York:20160330T183000
DTEND;TZID=America/New_York:20160330T230000
END:VEVENT
END:VCALENDAR
