BEGIN:VCALENDAR
PRODID:-//eluceo/ical//2.0/EN
VERSION:2.0
CALSCALE:GREGORIAN
BEGIN:VEVENT
UID:3814c6baa6afcac1b6644e679395f2cf
DTSTAMP:20260425T222655Z
SUMMARY:DESIGNER HANDBAG BINGO at Temple Beth Sholom
DESCRIPTION:Jewish Federation & Foundation of Rockland County\nCommunity Ca
 lendar\nhttps://jewishrockland.org/calendar/designer-handbag-bingo-at-temp
 le-beth-sholom-1456948396-183550\n\nOne winner of each game will receive a
 n authentic Designer Handbag by Coach\, Michael Kors\, Kate Spade\, Tory B
 urch and others! AND lots of great raffles with many opportunities to win!
 \nDoors open at 7:00pm\, games begin at 7:45pm.\nAdvance reservations fee 
 $45.00 by March 12\,2016\nAdmission at the door $50.00\nAdmission includes
  bingo boards\, bingo marker and door prize ticket. BYOB and snacks for th
 e evening.\nFor additional information and/or registration contact PTFundr
 aising@verizon.net or...
DTSTART;TZID=America/New_York:20160316T190000
DTEND;TZID=America/New_York:20160316T213000
END:VEVENT
END:VCALENDAR
