BEGIN:VCALENDAR
PRODID:-//eluceo/ical//2.0/EN
VERSION:2.0
CALSCALE:GREGORIAN
BEGIN:VEVENT
UID:45e64fe07c5893c05025d81c70c327d0
DTSTAMP:20260426T013556Z
SUMMARY:Disney Havdalah at Orangetown Jewish Center
DESCRIPTION:Jewish Federation & Foundation of Rockland County\nCommunity Ca
 lendar\nhttps://jewishrockland.org/calendar/disney-havdalah-at-orangetown-
 jewish-center-1721827946\n\nEnjoy Havdalah service at the OJC with Rabbi S
 cheff and Rabbi Hersh followed by a child-friendly movie to welcome the ne
 w week
DTSTART;TZID=America/New_York:20241109T171500
DTEND;TZID=America/New_York:20241109T191500
END:VEVENT
END:VCALENDAR
