BEGIN:VCALENDAR
PRODID:-//eluceo/ical//2.0/EN
VERSION:2.0
CALSCALE:GREGORIAN
BEGIN:VEVENT
UID:f29f98c094eed8d9771dcc459dc6739f
DTSTAMP:20260420T210125Z
SUMMARY:Disney Havdalah at the Orangetown Jewish Center
DESCRIPTION:Jewish Federation & Foundation of Rockland County\nCommunity Ca
 lendar\nhttps://jewishrockland.org/calendar/disney-havdalah-at-the-oranget
 own-jewish-center-1721828155\n\nEnjoy Havdalah service at the OJC with Rab
 bi Scheff and Rabbi Hersh followed by a child-friendly movie to welcome th
 e new week
DTSTART;TZID=America/New_York:20250111T171500
DTEND;TZID=America/New_York:20250111T191500
END:VEVENT
END:VCALENDAR
