BEGIN:VCALENDAR
PRODID:-//eluceo/ical//2.0/EN
VERSION:2.0
CALSCALE:GREGORIAN
BEGIN:VEVENT
UID:379ec080f71b80c12be80a494ba3eed1
DTSTAMP:20260422T113641Z
SUMMARY:Disney Havdalah at the Orangetown Jewish Center
DESCRIPTION:Jewish Federation & Foundation of Rockland County\nCommunity Ca
 lendar\nhttps://jewishrockland.org/calendar/disney-havdalah-at-the-oranget
 own-jewish-center-1721828387\n\nEnjoy Havdalah service at the OJC with Rab
 bi Scheff and Rabbi Hersh followed by a child-friendly movie to welcome th
 e new week
DTSTART;TZID=America/New_York:20250208T174500
DTEND;TZID=America/New_York:20250208T194500
END:VEVENT
END:VCALENDAR
