BEGIN:VCALENDAR
PRODID:-//eluceo/ical//2.0/EN
VERSION:2.0
CALSCALE:GREGORIAN
BEGIN:VEVENT
UID:25dbb1b92055053d6038a0856efb0374
DTSTAMP:20260420T162244Z
SUMMARY:Disney Havdalah at the Orangetown Jewish Center
DESCRIPTION:Jewish Federation & Foundation of Rockland County\nCommunity Ca
 lendar\nhttps://jewishrockland.org/calendar/disney-havdalah-at-the-oranget
 own-jewish-center-1721843980\n\nEnjoy Havdalah service with Rabbi Scheff a
 nd Rabbi Hersh followed by a child friendly movie to welcome the new week
DTSTART;TZID=America/New_York:20241214T170000
DTEND;TZID=America/New_York:20241214T190000
END:VEVENT
END:VCALENDAR
