BEGIN:VCALENDAR
PRODID:-//eluceo/ical//2.0/EN
VERSION:2.0
CALSCALE:GREGORIAN
BEGIN:VEVENT
UID:6edc2b83beadf4351429e4a12218db7c
DTSTAMP:20260422T061849Z
SUMMARY:Disobedience | JCC Rockland Film Festival
DESCRIPTION:Jewish Federation & Foundation of Rockland County\nCommunity Ca
 lendar\nhttps://jewishrockland.org/calendar/disobedience-jcc-rockland-film
 -festival-61948\n\nDisobedience: The Sousa Mendea Story In June 1940\, whe
 n Nazi troops invaded France\, an amazing rescue operation sprang into bei
 ng. One man\, on his own\, defying the direct orders of his government\, c
 hose to grant visas out of Occupied France to an estimated 30\,000 refugee
 s including around 10\,000 Jews. This remarkable true story has been descr
 ibed by historians as 'the largest rescue action by a single individual du
 ring the Holocaust.' The man was Aristides de Sousa Mendes\, the Portugues
 e Cons...
DTSTART;TZID=America/New_York:20140430T193000
DTEND;TZID=America/New_York:20140430T220000
END:VEVENT
END:VCALENDAR
