BEGIN:VCALENDAR
PRODID:-//eluceo/ical//2.0/EN
VERSION:2.0
CALSCALE:GREGORIAN
BEGIN:VEVENT
UID:b0e6df8a7c51e1a14ce0e95d1d2e7f02
DTSTAMP:20260425T195234Z
SUMMARY:Documentary Screening of One of US
DESCRIPTION:Jewish Federation & Foundation of Rockland County\nCommunity Ca
 lendar\nhttps://jewishrockland.org/calendar/documentary-screening-of-one-o
 f-us\n\nCSI will be screening the documentary\," One of Us"\n• This docu
 mentary follows 3 individuals who left the Hasidic community.\n• Chani G
 etter (one of the documentary's participants) will join us for a Q and A a
 fter the presentation
DTSTART;TZID=America/New_York:20180509T190000
DTEND;TZID=America/New_York:20180509T211500
END:VEVENT
END:VCALENDAR
