BEGIN:VCALENDAR
PRODID:-//eluceo/ical//2.0/EN
VERSION:2.0
CALSCALE:GREGORIAN
BEGIN:VEVENT
UID:2ba29fd3037d80e4cf4133c90cef08d5
DTSTAMP:20260424T184651Z
SUMMARY:Does the Soul Survive?
DESCRIPTION:Jewish Federation & Foundation of Rockland County\nCommunity Ca
 lendar\nhttps://jewishrockland.org/calendar/does-the-soul-survive-16464014
 53\n\nJoin Scholar-in-Residence\, Rabbi Ellie Spitz\, for a Shabbat of lea
 rning.\n"Does the Soul Survive?"\nFriday\, May 6 - Services and Dinner pro
 gram\nSaturday\, May 7 - Services followed by lunch and discussion with Ra
 bbi Spitz.
DTSTART;TZID=America/New_York:20220507T093000
DTEND;TZID=America/New_York:20220507T130000
END:VEVENT
END:VCALENDAR
