BEGIN:VCALENDAR
PRODID:-//eluceo/ical//2.0/EN
VERSION:2.0
CALSCALE:GREGORIAN
BEGIN:VEVENT
UID:c980e18deaed059b81daddcf7c2b9edc
DTSTAMP:20260424T174730Z
SUMMARY:Doo Wop & Oldies Dance Party - at Nanuet Hebrew Center!
DESCRIPTION:Jewish Federation & Foundation of Rockland County\nCommunity Ca
 lendar\nhttps://jewishrockland.org/calendar/doo-wop-oldies-dance-party-nan
 uet-hebrew-center\n\nDoo Wop & Oldies Party and Dance at Nanuet Hebrew Cen
 ter!\n\nFeaturing "FOREVER YOUNG"\, one of the NY Metro Area's Premier Doo
  Wop & Oldies Bands.\n\nSaturday Evening - November 19th\, starting at 7:3
 0pm.\n\nLive music by FOREVER YOUNG\, plus DJ Jeff\, singing and dancing!\
 n\nOpen to the Community.\n\n$18 in advance\; $20 at the door.  \nTable of
  10: $150 (advance only)\n\nCash Bar - Snacks - Coffee - Cake\n\nClick her
 e fore more info: ...
DTSTART;TZID=America/New_York:20161119T193000
DTEND;TZID=America/New_York:20161119T230000
END:VEVENT
END:VCALENDAR
