BEGIN:VCALENDAR
PRODID:-//eluceo/ical//2.0/EN
VERSION:2.0
CALSCALE:GREGORIAN
BEGIN:VEVENT
UID:54f1733aca05899fe977319af229298f
DTSTAMP:20260419T150015Z
SUMMARY:Dr. Minna Josef Women's Health and Wellness Symposium
DESCRIPTION:Jewish Federation & Foundation of Rockland County\nCommunity Ca
 lendar\nhttps://jewishrockland.org/calendar/dr-minna-josef-womens-health-a
 nd-wellness-symposium-63500\n\nJoin us for engaging speakers and workshops
 .
DTSTART;TZID=America/New_York:20150519T180000
DTEND;TZID=America/New_York:20150519T220000
END:VEVENT
END:VCALENDAR
