BEGIN:VCALENDAR
PRODID:-//eluceo/ical//2.0/EN
VERSION:2.0
CALSCALE:GREGORIAN
BEGIN:VEVENT
UID:5cf3a3a77ae1658ff4aef6dbc7f0bce1
DTSTAMP:20260421T002953Z
SUMMARY:Early Childhood Parenting Place
DESCRIPTION:Jewish Federation & Foundation of Rockland County\nCommunity Ca
 lendar\nhttps://jewishrockland.org/calendar/early-childhood-parenting-plac
 e\n\nEarly Childhood Parenting Place
DTSTART;TZID=America/New_York:20130410T100000
DTEND;TZID=America/New_York:20130410T103000
END:VEVENT
END:VCALENDAR
