BEGIN:VCALENDAR
PRODID:-//eluceo/ical//2.0/EN
VERSION:2.0
CALSCALE:GREGORIAN
BEGIN:VEVENT
UID:44c97a8477b5f8fee1a19e35efa739a1
DTSTAMP:20260423T234034Z
SUMMARY:Early Kabbalat Shabbat (EKS) with Dinner (December)
DESCRIPTION:Jewish Federation & Foundation of Rockland County\nCommunity Ca
 lendar\nhttps://jewishrockland.org/calendar/early-kabbalat-shabbat-eks-wit
 h-dinner-december-83624\n\nHeld on the 3rd Friday of each month at 5:45pm 
 in our Daily Chapel\, this musical service and story telling is geared tow
 ards 0-5 year olds and their grownups.
DTSTART;TZID=America/New_York:20141219T174500
DTEND;TZID=America/New_York:20141219T204500
END:VEVENT
END:VCALENDAR
