BEGIN:VCALENDAR
PRODID:-//eluceo/ical//2.0/EN
VERSION:2.0
CALSCALE:GREGORIAN
BEGIN:VEVENT
UID:5480fa293f356277b1196e3e29411341
DTSTAMP:20260425T172924Z
SUMMARY:Early Kabbalat Shabbat (EKS) with Dinner (November)
DESCRIPTION:Jewish Federation & Foundation of Rockland County\nCommunity Ca
 lendar\nhttps://jewishrockland.org/calendar/early-kabbalat-shabbat-eks-wit
 h-dinner-november-83623\n\nHeld on the 3rd Friday of each month at 5:45pm 
 in our Daily Chapel\, this musical service and story telling is geared tow
 ards 0-5 year olds and their grownups.
DTSTART;TZID=America/New_York:20141121T174500
DTEND;TZID=America/New_York:20141121T204500
END:VEVENT
END:VCALENDAR
