BEGIN:VCALENDAR
PRODID:-//eluceo/ical//2.0/EN
VERSION:2.0
CALSCALE:GREGORIAN
BEGIN:VEVENT
UID:4d8ba8ee1a5e293c994fd0e57243334e
DTSTAMP:20260423T114042Z
SUMMARY:Eat\, Learn and Pray at CSI
DESCRIPTION:Jewish Federation & Foundation of Rockland County\nCommunity Ca
 lendar\nhttps://jewishrockland.org/calendar/eat-learn-and-pray-at-csi-1493
 414145\n\nSaturday\, May 27\, 9:30 a.m. Eat\, Learn and Pray at CSI\nWe ar
 e beginning a new series called Eat\, Learn\, and Pray. On Shabbat\, May 2
 7th\nRabbi Russo will hold the first teaching session on the Shema and its
  blessings. We will delve into our prayer service over coffee\, texts\, qu
 estions\, and discussion. The session begins at 9:30 am followed by Shacha
 rit at 10 AM.\nCongregation Sons of Israel\, 300 N. Broadway\, Upper Nyack
 \, NY 10960. For more information contact us at 845-358-3767 or csioffice@
 o...
DTSTART;TZID=America/New_York:20170527T093000
DTEND;TZID=America/New_York:20170527T100000
END:VEVENT
END:VCALENDAR
