BEGIN:VCALENDAR
PRODID:-//eluceo/ical//2.0/EN
VERSION:2.0
CALSCALE:GREGORIAN
BEGIN:VEVENT
UID:77eb320876de90930ca659e855f0b2e4
DTSTAMP:20260421T133930Z
SUMMARY:EKS (Early Kabbalat Shabbat)
DESCRIPTION:Jewish Federation & Foundation of Rockland County\nCommunity Ca
 lendar\nhttps://jewishrockland.org/calendar/eks-early-kabbalat-shabbat-632
 64\n\nAn experience designed for families with young children on the 3rd F
 riday of every month. Held in our Daily Chapel\, this musical service incl
 udes storytelling and is tons of fun. It is led by Rabbi Hersh and Amichai
  Margolis and is sure to knock your socks off! Please RSVP to Rabbi Hersh 
 or visit our Facebook event.\n 
DTSTART;TZID=America/New_York:20140516T174500
DTEND;TZID=America/New_York:20140516T190000
END:VEVENT
END:VCALENDAR
