BEGIN:VCALENDAR
PRODID:-//eluceo/ical//2.0/EN
VERSION:2.0
CALSCALE:GREGORIAN
BEGIN:VEVENT
UID:5047191405deca5c2c43b338cdab5d06
DTSTAMP:20260423T121713Z
SUMMARY:Elsa and Olaf Meet and Greet
DESCRIPTION:Jewish Federation & Foundation of Rockland County\nCommunity Ca
 lendar\nhttps://jewishrockland.org/calendar/elsa-and-olaf-meet-and-greet-1
 448292146-172480\n\nGet Your Picture Taken with Elsa and Olaf\n\n Snowy Sc
 ience Experiments \n\n Make Olaf in a Bottle \n\n Enjoy an Edible Snowman 
 \n\n Registration Required-Admission is Complimentary \n\n To Register go 
 to gbds@ssnj.org
DTSTART;TZID=America/New_York:20151220T093000
DTEND;TZID=America/New_York:20151220T110000
END:VEVENT
END:VCALENDAR
