BEGIN:VCALENDAR
PRODID:-//eluceo/ical//2.0/EN
VERSION:2.0
CALSCALE:GREGORIAN
BEGIN:VEVENT
UID:d71c71d36453a0d1bf002ddab60e79ff
DTSTAMP:20260423T044623Z
SUMMARY:End-of-Summer Community Shabbat BBQ\, Tot Shabbat and Evening Servi
 ce at NHC
DESCRIPTION:Jewish Federation & Foundation of Rockland County\nCommunity Ca
 lendar\nhttps://jewishrockland.org/calendar/end-of-summer-community-shabba
 t-bbq-tot-shabbat-and-evening-service-at-nhc\n\nNanuet Hebrew Center's End
 -of-Summer Meet & Mingle Tot Shabbat\, BBQ and Evening Service is open to 
 the entire Community including NHC congregants\, school families\, prospec
 tive new congregants and friends.   \n\nThis “open house” event will i
 nclude Tot Shabbat at 5:00pm\, BBQ at 5:30pm and Shabbat Evening Service a
 t 6:30pm.\n\nThere is no charge if RSVP is made by September 10. Without R
 SVP\, cost is $18 per family.\n\nFor more info\, please contact the NHC Of
 fice at (845) 708-9181 /...
DTSTART;TZID=America/New_York:20140912T170000
DTEND;TZID=America/New_York:20140912T200000
END:VEVENT
END:VCALENDAR
