BEGIN:VCALENDAR
PRODID:-//eluceo/ical//2.0/EN
VERSION:2.0
CALSCALE:GREGORIAN
BEGIN:VEVENT
UID:d03892c095c2cbf43dda899d5c77fb6d
DTSTAMP:20260421T105950Z
SUMMARY:ENJOY THE SOUNDS\, COSTUMES\, FUN OF PURIM AT BETH AM TEMPLE
DESCRIPTION:Jewish Federation & Foundation of Rockland County\nCommunity Ca
 lendar\nhttps://jewishrockland.org/calendar/enjoy-the-sounds-costumes-fun-
 of-purim-at-beth-am-temple-1583074321\n\nThe public is invited to join and
  participate in Beth Am Temple&#039\;s &quot\;Big Bang Theory&quot\; theme
 d Purim service  on Monday\, March 9 at 7 pm .
DTSTART;TZID=America/New_York:20200309T190000
DTEND;TZID=America/New_York:20200309T210000
END:VEVENT
END:VCALENDAR
