BEGIN:VCALENDAR
PRODID:-//eluceo/ical//2.0/EN
VERSION:2.0
CALSCALE:GREGORIAN
BEGIN:VEVENT
UID:70a00e15104c6e72f6a4a8cec30f1aad
DTSTAMP:20260421T121120Z
SUMMARY:Erev Rosh Hashana Service at Beth Am Temple
DESCRIPTION:Jewish Federation & Foundation of Rockland County\nCommunity Ca
 lendar\nhttps://jewishrockland.org/calendar/erev-rosh-hashana-service-beth
 -am\n\nNo tickets are required for tonight's High Holy Day service.\nFeatu
 red are many of the well-known Rosh Hashana melodies\nand prayers\, plus a
 n inspiring sermon. Non members are welcome\nto join us for tonight's serv
 ice\, as well as the 2nd day of Rosh Hashana\,\nwithout tickets.
DTSTART;TZID=America/New_York:20161002T200000
DTEND;TZID=America/New_York:20161002T213000
END:VEVENT
END:VCALENDAR
