BEGIN:VCALENDAR
PRODID:-//eluceo/ical//2.0/EN
VERSION:2.0
CALSCALE:GREGORIAN
BEGIN:VEVENT
UID:d88f717136ef4d545e205788c53c186e
DTSTAMP:20260422T072958Z
SUMMARY:Erev Rosh Hashanah Family & Community Service
DESCRIPTION:Jewish Federation & Foundation of Rockland County\nCommunity Ca
 lendar\nhttps://jewishrockland.org/calendar/erev-rosh-hashanah-family--com
 munity-service-1532446802\n\nRTR invites young families and the community 
 to our Erev Rosh Hashanah Service at 5:30 PM. This family-friendly service
  does not require tickets. Join us!
DTSTART;TZID=America/New_York:20180909T173000
DTEND;TZID=America/New_York:20180909T183000
END:VEVENT
END:VCALENDAR
