BEGIN:VCALENDAR
PRODID:-//eluceo/ical//2.0/EN
VERSION:2.0
CALSCALE:GREGORIAN
BEGIN:VEVENT
UID:0d4d02a157619a80cbb144270c165523
DTSTAMP:20260424T175233Z
SUMMARY:Exodus - NCJW Anti-Trafficking Initiative
DESCRIPTION:Jewish Federation & Foundation of Rockland County\nCommunity Ca
 lendar\nhttps://jewishrockland.org/calendar/exodus-ncjw-anti-trafficking\n
 \nSpotlight on Human Trafficking\nThe National Council of Jewish Women (NC
 JW)\, Rockland Section will sponsor a meeting to raise awareness about Hum
 an Trafficking\, a form of modern day slavery whose victims are often invi
 sible and silent. Featured speaker: Beatrice Kahn\, NCJW\, Inc. and Traffi
 cking Advisory Board Chair.\nThe program starts at 7:30 PM on December 3rd
  at Temple Beth El\, 415 Viola Rd.\, Spring Valley. Refreshments\, Free\, 
 Open to the Public. 
DTSTART;TZID=America/New_York:20141203T193000
DTEND;TZID=America/New_York:20141203T213000
END:VEVENT
END:VCALENDAR
