BEGIN:VCALENDAR
PRODID:-//eluceo/ical//2.0/EN
VERSION:2.0
CALSCALE:GREGORIAN
BEGIN:VEVENT
UID:93aae0734d6c3bf9c1365887ff5f9d12
DTSTAMP:20260421T090802Z
SUMMARY:Midreshet: F2. Israel Current Events
DESCRIPTION:Jewish Federation & Foundation of Rockland County\nCommunity Ca
 lendar\nhttps://jewishrockland.org/calendar/f2-israel-current-events\n\nIn
 structor: Shimmy Cohen\n\nIn person or online (hybrid)\n\nLed by an Israel
 i\, we will discuss a variety of everyday aspects of life in Israel\, from
  the perspective of different views and beliefs. Topics will include Israe
 l’s current war\, Israel’s internal politics\, Israel’s religious st
 rife\, Israel’s economy\, Is Israel under existential threat?\, Israel a
 mong the nations\, Israel accomplishments\, plus whatever you wanted to kn
 ow about Israel and never asked. The seminar will be conduct...
DTSTART;TZID=America/New_York:20251030T093000
DTEND;TZID=America/New_York:20251030T104500
END:VEVENT
END:VCALENDAR
