BEGIN:VCALENDAR
PRODID:-//eluceo/ical//2.0/EN
VERSION:2.0
CALSCALE:GREGORIAN
BEGIN:VEVENT
UID:2c00aaa65095de706137c0fe4d5e5678
DTSTAMP:20260423T164930Z
SUMMARY:Fahrbrengen Gathering At Beth Am Temple
DESCRIPTION:Jewish Federation & Foundation of Rockland County\nCommunity Ca
 lendar\nhttps://jewishrockland.org/calendar/fahrbrengen-gathering-at-beth-
 am-temple-1726515164\n\nBeth Am Temple holds the final of a serie of Fahrb
 rengen gatherings on Friday\, December 6.
DTSTART;TZID=America/New_York:20241206T173000
DTEND;TZID=America/New_York:20241206T183000
END:VEVENT
END:VCALENDAR
