BEGIN:VCALENDAR
PRODID:-//eluceo/ical//2.0/EN
VERSION:2.0
CALSCALE:GREGORIAN
BEGIN:VEVENT
UID:aaf37fa8178a0c7a81ff66a7aead6bc9
DTSTAMP:20260425T125225Z
SUMMARY:Fahrbrengen Gatherings At Beth Am Temple
DESCRIPTION:Jewish Federation & Foundation of Rockland County\nCommunity Ca
 lendar\nhttps://jewishrockland.org/calendar/fahrbrengen-gatherings-at-beth
 -am-temple-1726253505\n\nBeth Am Temple in Pearl River is hosting three Fa
 hrbrengen gatherings on October 4\, November 1 and December 6 at 5:30 pm. 
 The Friday evening gatherings will be informal.
DTSTART;TZID=America/New_York:20241004T173000
DTEND;TZID=America/New_York:20241004T183000
END:VEVENT
END:VCALENDAR
