BEGIN:VCALENDAR
PRODID:-//eluceo/ical//2.0/EN
VERSION:2.0
CALSCALE:GREGORIAN
BEGIN:VEVENT
UID:02594a37518b9d77609ee4d1b11edb39
DTSTAMP:20260423T135044Z
SUMMARY:Fahrbrengen Gatherings At Beth Am Temple
DESCRIPTION:Jewish Federation & Foundation of Rockland County\nCommunity Ca
 lendar\nhttps://jewishrockland.org/calendar/fahrbrengen-gatherings-at-beth
 -am-temple-1726514906\n\nBeth Am Temple will host the second  of a series 
 of three Fahrbrengen gatherings on Friday\, November 1 at 5:30 pm in the s
 ocial hall. The final  gathering will take place on Friday\, December 6. T
 he casual\, non-prayer book Shabbat gathering for all ages will include so
 ngs\, noshes\, learning and discussion.  Kaddish will be recited. The publ
 ic is invited to join this hour-long\, friendly program. \n\nBeth Am Templ
 e is a reform temple\, which embraces tradition and draws its congregation
  from...
DTSTART;TZID=America/New_York:20241101T173000
DTEND;TZID=America/New_York:20241101T183000
END:VEVENT
END:VCALENDAR
