BEGIN:VCALENDAR
PRODID:-//eluceo/ical//2.0/EN
VERSION:2.0
CALSCALE:GREGORIAN
BEGIN:VEVENT
UID:85e52b89fd82e6238db30cd7fcced478
DTSTAMP:20260423T012856Z
SUMMARY:Fahrbrengen Gatherings At Beth Am Temple
DESCRIPTION:Jewish Federation & Foundation of Rockland County\nCommunity Ca
 lendar\nhttps://jewishrockland.org/calendar/fahrbrengen-gatherings-at-beth
 -am-temple-1741204014\n\nBeth Am Temple continues its Fahrbrengen gatherin
 gs in 2025 with programs scheduled for Friday\, March 7\, April 4\, May 2 
 and June 6 at 5:30 pm.
DTSTART;TZID=America/New_York:20250307T173000
DTEND;TZID=America/New_York:20250307T183000
END:VEVENT
END:VCALENDAR
