BEGIN:VCALENDAR
PRODID:-//eluceo/ical//2.0/EN
VERSION:2.0
CALSCALE:GREGORIAN
BEGIN:VEVENT
UID:d4704305fecb40f1ae4b80ff3961fc4d
DTSTAMP:20260421T144818Z
SUMMARY:Fahrbrengen Gatherings At Beth Am Temple
DESCRIPTION:Jewish Federation & Foundation of Rockland County\nCommunity Ca
 lendar\nhttps://jewishrockland.org/calendar/fahrbrengen-gatherings-at-beth
 -am-temple-1741359733\n\nBeth Am Temple in Pearl River hosts Fahrbrengen c
 asual gatherings on Friday\, April 4\, May 2 and June 6 at 5:30 pm.
DTSTART;TZID=America/New_York:20250404T173000
DTEND;TZID=America/New_York:20250404T183000
END:VEVENT
END:VCALENDAR
