BEGIN:VCALENDAR
PRODID:-//eluceo/ical//2.0/EN
VERSION:2.0
CALSCALE:GREGORIAN
BEGIN:VEVENT
UID:e3f2eb67d1b39eabaec16aa419b11635
DTSTAMP:20260422T043756Z
SUMMARY:Family and Teen Mitzvah Day 2016
DESCRIPTION:Jewish Federation & Foundation of Rockland County\nCommunity Ca
 lendar\nhttps://jewishrockland.org/calendar/family-and-teen-mitzvah-day-20
 16\n\nFamily and Teen Mitzvah Day 
DTSTART;TZID=America/New_York:20160417T000000
DTEND;TZID=America/New_York:20160417T235959
END:VEVENT
END:VCALENDAR
